BEGIN:VCALENDAR
VERSION:2.0
PRODID:icalendar-ruby
CALSCALE:GREGORIAN
METHOD:PUBLISH
BEGIN:VEVENT
DTSTAMP:20260423T222922Z
UID:https://imprs.mpifg.de/events/45518/50597
DTSTART;VALUE=DATE:20261126
DTEND;VALUE=DATE:20261128
CLASS:PUBLIC
CREATED:20260422T170644Z
DESCRIPTION: In an era of overlapping crises marked by trade wars\, energy 
 price shocks\, and military conflicts\, global economic interdependencies 
 are increasingly becoming a source of vulnerability and an arena of strate
 gic intervention. The theme of this year’s newly launched <i>MPIfG Sympo
 sium </i>considers geoeconomic tensions and how they are reshaping societi
 es.
LAST-MODIFIED:20260422T171228Z
LOCATION:Cologne
ORGANIZER;CN=Max Planck Institute for the Study of Societies:mailto:info@mp
 ifg.de
SUMMARY:MPIfG Symposium:  Politics and Society in an Age of Geoeconomic Unc
 ertainty 
URL;VALUE=URI:https://imprs.mpifg.de/events/45518/50597
END:VEVENT
END:VCALENDAR
