BEGIN:VCALENDAR
VERSION:2.0
PRODID:icalendar-ruby
CALSCALE:GREGORIAN
METHOD:PUBLISH
BEGIN:VEVENT
DTSTAMP:20260421T140216Z
UID:https://imprs.mpifg.de/events/45467/2776
DTSTART:20260708T143000Z
DTEND:20260708T160000Z
CLASS:PUBLIC
CREATED:20260420T092949Z
DESCRIPTION:In the face of exploding investments into the weapons industry\
 , the rise of the AfD\, and the silence in the face of plausible genocide\
 , Kai Koddenbrock’s talk explores how these old and more recent theories
  of fascism and of imperialism can help us make sense of the current Germa
 n “model.”\nSpeaker: Kai Koddenbrock\nSign up: info@mpifg.de
LAST-MODIFIED:20260420T100622Z
LOCATION:
SUMMARY:MPIfG Lecture: Understanding Germany in Times of Genocide: Franz Ne
 umann and the Ongoing Question of Imperialism
URL;VALUE=URI:https://imprs.mpifg.de/events/45467/2776
END:VEVENT
END:VCALENDAR
